BEGIN:VCALENDAR
VERSION:2.0
PRODID:-//GOLAS Festiwal - ECPv6.3.7//NONSGML v1.0//EN
CALSCALE:GREGORIAN
METHOD:PUBLISH
X-WR-CALNAME:GOLAS Festiwal
X-ORIGINAL-URL:https://golasfestiwal.pl
X-WR-CALDESC:Events for GOLAS Festiwal
REFRESH-INTERVAL;VALUE=DURATION:PT1H
X-Robots-Tag:noindex
X-PUBLISHED-TTL:PT1H
BEGIN:VTIMEZONE
TZID:Europe/Warsaw
BEGIN:DAYLIGHT
TZOFFSETFROM:+0100
TZOFFSETTO:+0200
TZNAME:CEST
DTSTART:20240331T010000
END:DAYLIGHT
BEGIN:STANDARD
TZOFFSETFROM:+0200
TZOFFSETTO:+0100
TZNAME:CET
DTSTART:20241027T010000
END:STANDARD
END:VTIMEZONE
BEGIN:VEVENT
DTSTART;TZID=Europe/Warsaw:20240622T090000
DTEND;TZID=Europe/Warsaw:20240622T130000
DTSTAMP:20260419T153342
CREATED:20230520T152938Z
LAST-MODIFIED:20240601T170453Z
UID:1316-1719046800-1719061200@golasfestiwal.pl
SUMMARY:Warsztaty linorytnicze
DESCRIPTION:Na warsztatach poznamy jedną z tradycyjnych technik grafiki warsztatowej. Efektem naszej pracy będą odbitki graficzne w formacie pocztówkowym. Zaczniemy od pomysłów i projektów na papierze.\nBędę Was zachęcać do zainspirowania się floriografią (symboliczny język kwiatów)\, korzystania z motywów roślinnych i ich znaczeń\, jednak to Wy będziecie decydować co stanie się motywem przewodnim Waszych prac. \nWiek uczestników: od 14 lat\nProwadząca: Anna Trzpil-Zagórska \n\n			\n				\n			\n			\n				\n			\n			\n				\n			\n			\n				\n			\n			\n				\n			\n			\n				\n			\n		\n\nAnna Trzpil-Zagórska – projektantka graficzna i ilustratorka\, od czterech lat mieszka i pracuje w małej wsi na granicy Warmii i Mazur. Absolwentka Projektowania Graficznego i Edukacji Artystycznej na Wydziale Sztuk Pięknych UMK w Toruniu. Uczestniczka wystaw zbiorowych w kraju i za granicą\, laureatka nagród i wyróżnień w konkursach ilustratorskich\, m.in. III miejsce w międzynarodowym konkursie dla ilustratorów „Książka dobrze zaprojektowana\, zacznijmy od dzieci” (ASP Katowice\, 2016). Za najważniejszy obszar swoich działań uważa ilustrację\, mieszając i testując techniki cyfrowe i analogowe. W swojej twórczości stawia na pomysł\, prostotę i oszczędność formy. Z chęcią angażuje się w różnego rodzaju inicjatywy artystyczno-kulturalne jako współ/organizatorka i/lub twórczyni materiałów graficznych. Wierzy w moc jakości przekazu wizualnego i znaczenie dobrze skrojonej szaty graficznej. Od pierwszej edycji GOLASa tworzy identyfikację wizualną Festiwalu i dba o wizerunek imprezy w sieci.\n\nJest autorką inicjatywy edukacyjno-artystycznej pt. „Mały Teatr Ilustracji”\, w ramach której tworzy i prezentuje autorskie spektakle ilustracji posługując się techniką teatru Kamishibai. W latach 2020–2022 prowadziła dobroczynny projekt pt. “Nie ma nudy!”. \nhttps://www.behance.net/a_trzpilzagorska\nIG / @an.zagorska\nFB / https://www.facebook.com/an.zagorska
URL:https://golasfestiwal.pl/event/linoryt/
LOCATION:Festiwal GOLAS\, ul. Przyszłość 1\, Giżycko\, 11-500\, Poland
ATTACH;FMTTYPE=image/jpeg:https://golasfestiwal.pl/wp-content/uploads/2024/05/lino_www.jpg
ORGANIZER;CN="Golas FESTIWAL":MAILTO:golasfestiwal@gmail.com
END:VEVENT
BEGIN:VEVENT
DTSTART;TZID=Europe/Warsaw:20240622T090000
DTEND;TZID=Europe/Warsaw:20240622T130000
DTSTAMP:20260419T153342
CREATED:20230520T134830Z
LAST-MODIFIED:20240601T170435Z
UID:1313-1719046800-1719061200@golasfestiwal.pl
SUMMARY:Warsztaty malarskie
DESCRIPTION:Zajęcia z malarstwa przeznaczone są dla wszystkich – zarówno dla tych\, którzy dopiero zaczynają przygodę z malarstwem jak też dla osób chcących szlifować swoje umiejętności. Na warsztatach skupimy się na martwej naturze oraz pracy z obserwacji. Uczestnicy poznają technikę malarstwa akrylowego\, będą pracować z kolorami i światłocieniem.  \nWiek uczestników: od 13 lat\nProwadząca: Martyna Malka Górecka \n\n			\n				\n			\n			\n				\n			\n			\n				\n			\n			\n				\n			\n			\n				\n			\n			\n				\n			\n		\n\nMartyna Malka Górecka – malarka\, absolwentka Akademii Sztuk Pięknych w Warszawie na kierunku Malarstwo. Brała udział w wielu wystawach zbiorowych\, między innymi: Birth of Supernova (Galeria Monat w Madrycie\, 2022)\, Winter Art Show (Elektrownia Powiśle\, 2021) czy Art Fair (Monaco\, 2021). W sierpniu 2019 r. otworzyła własną szkołę rysunku „Powidok”\, w której przygotowuje przyszłych kandydatów na studia artystyczne. \nGłównym założeniem malowanych przez nią obrazów jest połączenie realizmu z abstrakcją. Tematem są owoce morza\, a więc formy naturalne i rzeczywiste\, ale przeskalowane\, przedstawione w nienaturalnym rozmiarze. Prace artystki są podsumowaniem wspomnień z podróży\, pozorną abstrakcją przypominającą o natłoku nowych doznań z wyjazdów. To przede wszystkim wyabstrahowane kadry\, które sięgają głęboko do pamięci skrywającej przelotne\, na pierwszy rzut oka nieznaczące momenty. Ta zabawa formą i treścią\, to poszukiwanie abstrakcji w rzeczywistym świecie. \nFB / https://www.facebook.com/powidokszkolarysunku/\nIG / @martynamalka
URL:https://golasfestiwal.pl/event/warsztaty-malarskie/
LOCATION:Festiwal GOLAS\, ul. Przyszłość 1\, Giżycko\, 11-500\, Poland
ATTACH;FMTTYPE=image/png:https://golasfestiwal.pl/wp-content/uploads/2024/05/mal_www.png
ORGANIZER;CN="Golas FESTIWAL":MAILTO:golasfestiwal@gmail.com
END:VEVENT
BEGIN:VEVENT
DTSTART;TZID=Europe/Warsaw:20240622T090000
DTEND;TZID=Europe/Warsaw:20240622T130000
DTSTAMP:20260419T153342
CREATED:20230520T131955Z
LAST-MODIFIED:20240601T170507Z
UID:1306-1719046800-1719061200@golasfestiwal.pl
SUMMARY:Warsztaty rysunkowe
DESCRIPTION:Na zajęciach narysujemy portret modela lub modelki z natury. Krok po kroku będziemy poznawać wzory matematyczne zawarte w ludzkiej twarzy. Przeanalizujemy odległości\, proporcje\, kości i mięśnie. Podczas ćwiczeń towarzyszyć nam będzieczaszka kostka Alfreda w skali 1:1.\nZastosujemy różne rodzaje kadrowania\, wytłumaczę i pokażę czym jest „oddech przed” i dlaczego jest tak ważny\, aby osiągnąć equilibrium\, nawet w tym pierwszym w życiu rysowanym portrecie. \nWiek uczestników: od 12 lat\nProwadząca: Joanna Roesler \n  \n\n			\n				\n			\n			\n				\n			\n			\n				\n			\n		\n\nJoanna Roesler – artystka wizualna\, absolwentka Akademii Sztuk Pięknych w Poznaniu. Animatorka kultury\, uczestniczka i koordynatorka wielu akcji edukacyjnych o charakterze artystycznym\, pedagożka i wielka wielbicielka roślin. W jej pracach znajdziemy ciszę\, skupienie i uważną analizę.  Jej działalnia artystyczne opowiadają o zanurzeniu się w subtelnościach\, miłym szepcie\, lekkości i wytchnieniu. Tworzy prace bardzo emocjonalne i efemeryczne\, które delikatnie drgają\, falują\, rozpływają się\, emanują wrażliwością. \nPracy warsztatowej oddaje się z pasją i cierpliwością. Uczestników swych zajęć raczy wiedzą\, doświadczeniem i dużą empatią. Wskazuje drogę do artystycznego spełnienia\, w którym jest odpoczynek\, satysfakcja i radosna\, plastyczna zabawa. Twórczyni pracowni i projektu artystycznego „Mapa Kresek”. \nwww.facebook.com/mapakresek/\nIG/mapakresek
URL:https://golasfestiwal.pl/event/warsztaty-rysunkowe-portret/
LOCATION:Festiwal GOLAS\, ul. Przyszłość 1\, Giżycko\, 11-500\, Poland
ATTACH;FMTTYPE=image/jpeg:https://golasfestiwal.pl/wp-content/uploads/2024/05/rys_www.jpg
ORGANIZER;CN="Golas FESTIWAL":MAILTO:golasfestiwal@gmail.com
END:VEVENT
BEGIN:VEVENT
DTSTART;TZID=Europe/Warsaw:20240622T090000
DTEND;TZID=Europe/Warsaw:20240622T130000
DTSTAMP:20260419T153342
CREATED:20230520T131515Z
LAST-MODIFIED:20240601T170520Z
UID:1304-1719046800-1719061200@golasfestiwal.pl
SUMMARY:Warsztaty rzeźba portretowa
DESCRIPTION:W plenerowej pracowni rzeźbiarskiej krok po kroku\, pod okiem doświadczonej artystki wyrzeźbisz portret człowieka. \nW świecie\, w którym często stajemy przeciwko sobie cenny jest czas zatrzymania i obserwacji człowieka\, który jest obok. Rzeźbienie drugiego człowieka daje możliwość przyjrzenia się mu\, poznania go\, pokochania go i szanowania jego wyborów. Studiowanie twarzy uczy prawdy o człowieczeństwie. Pomaga dostrzec piękno i dobre intencje. Kiedy zobaczymy je w innym\, znajdziemy je też w sobie. \nWiek uczestników: od 14 lat\nProwadząca: Marta Cierluk \n\n			\n				\n			\n			\n				\n			\n			\n				\n			\n			\n				\n			\n			\n				\n			\n			\n				\n			\n		\n\nMarta Cierluk – absolwentka rzeźby i konserwacji dzieł sztuki. Mówi o sobie\, że jest artystką matematyczką\, – dużo myśli o bryłach\, płaszczyznach\, liniach prostopadłych i równoległych. Zajmuje się głównie portretem. Tworzy zarówno przedstawienia wolnostojące jak i płaskorzeźbione. Z uwielbieniem obserwuje ludzi i wsłuchuje się w ich historie\, próbując zrozumieć ich działania. Pomaga jej to ukazywać w pracach głębię ludzkiego istnienia\, która wyraża się w zewnętrznej powłoce.\nPortret postrzega jako sposób na to\, by zatrzymać czas\, który tak szybko płynie i zachować przestrzenny obraz ukochanej lub cenionej osoby na zawsze. \nhttp://www.martacierluk.com/\n@martacierluk\nFB/ Marta Cierluk
URL:https://golasfestiwal.pl/event/warsztaty-rzezba-portretowa/
LOCATION:Festiwal GOLAS\, ul. Przyszłość 1\, Giżycko\, 11-500\, Poland
ATTACH;FMTTYPE=image/jpeg:https://golasfestiwal.pl/wp-content/uploads/2024/05/rzezba_www.jpg
ORGANIZER;CN="Golas FESTIWAL":MAILTO:golasfestiwal@gmail.com
END:VEVENT
BEGIN:VEVENT
DTSTART;TZID=Europe/Warsaw:20240622T090000
DTEND;TZID=Europe/Warsaw:20240622T130000
DTSTAMP:20260419T153342
CREATED:20230520T111230Z
LAST-MODIFIED:20240601T170534Z
UID:1271-1719046800-1719061200@golasfestiwal.pl
SUMMARY:Monotypia
DESCRIPTION:Monotypia to najprostsza technika graficzna\, która polega na uzyskaniu tylko jednej odbitki graficznej. Najprostsza i jednocześnie oferująca największą swobodę twórczą. Podczas warsztatów porannych wykorzystamy ją do stworzenia wielowarstwowych kolorowych kompozycji graficznych.  \nWiek uczestników: od 14 lat\nProwadząca: Jolanta Rejs \n  \n\n			\n				\n			\n			\n				\n			\n		\n\n  \nJolanta Rejs mieszka i pracuje w Talkach na Mazurach. Absolwentka Royal Academy Schools\, Royal Academy of Arts (2012) i Goldsmiths College\, University of London (2009). Nominowana do nagrody Queen Sonja Print Award 2022\, laureatka między innymi Grand Prix\, Quadriennale Polskiego Linorytu i Drzeworytu\, British Institution Award oraz Glenfiddich Artist in Residence. Prace Rejs prezentowane były na Międzynarodowym Triennale Grafiki\, Triennale Polskiej Grafiki\, Jerwood Drawing Prize\, Multiplied\, The London Original Prints\, MOT International Projects\, Bite: Artists Making Prints\, Summer Exhibition\, Royal Academy of Arts oraz wielu innych. \nhttps://www.facebook.com/jolantarejsartist/\nhttps://www.facebook.com/mokuhanga.japanese.print
URL:https://golasfestiwal.pl/event/monotypia/
LOCATION:Festiwal GOLAS\, ul. Przyszłość 1\, Giżycko\, 11-500\, Poland
ATTACH;FMTTYPE=image/jpeg:https://golasfestiwal.pl/wp-content/uploads/2024/05/monotypia_www.jpg
ORGANIZER;CN="Golas FESTIWAL":MAILTO:golasfestiwal@gmail.com
END:VEVENT
BEGIN:VEVENT
DTSTART;TZID=Europe/Warsaw:20240622T090000
DTEND;TZID=Europe/Warsaw:20240622T130000
DTSTAMP:20260419T153342
CREATED:20230520T095548Z
LAST-MODIFIED:20240601T170311Z
UID:1266-1719046800-1719061200@golasfestiwal.pl
SUMMARY:Snycerstwo
DESCRIPTION:Snycerstwo to stara dziedzina sztuki zdobniczej\, rzemiosło artystyczne mające wiele wspólnego z rzeźbieniem w drewnie. Podczas warsztatów poznasz podstawy rzeźbienia w drewnie za pomocą noża snycerskiego. Większość zdobień w tej technice wykonywano na konstrukcji starych drewnianych chat i na domowym wyposażeniu. Mimo\, że to technika mocno związana z kulturą ludową\, naszą pracę końcową oprzemy na nowoczesnych wzorach geometrycznych. Pracujemy w kameralnej grupie 6 osób. Warsztaty potrwają 4h i obejmą praktyczne ćwiczenia technik wykonywanych cięć\, solidną dawkę teorii konserwacji i ostrzenia narzędzi oraz realizację pracy końcowej w formacie 10×10 cm. \nWiek uczestników: od 18 lat\nProwadzący: Bure Wióry \n\n			\n				\n			\n			\n				\n			\n			\n				\n			\n			\n				\n			\n			\n				\n			\n			\n				\n			\n		\n\nTu Kasia i Mirek Bury – Bure Wióry. Wykonujemy ręcznie robione figurki z wyjątkowych kawałków drewna\, wykonujemy zdobienia snycerskie\, używamy forniru do dekoracji i biżuterii\, prowadzimy warsztaty rzemiosła i rękodzieła. Promujemy pracę rąk\, większość naszych prac powstaje bez prądu. Na co dzień pracujemy w krakowskich muzeach. Do pracowni zaglądamy po pracy i w dni wolne. Wykorzystujemy każdą wolną chwilę na rękodzieło i rzemiosło artystyczne. Bure Wióry stworzył Dziadek. Podarował nam skrzynkę z narzędziami: heblami\, dłutami\, tarnikami i laubzegą. Część tych narzędzi należała jeszcze do jego dziadka\, który wykonywał nimi zabawki.  \n www.instagram.com/bure_wiory\n www.facebook.com/Burewiory
URL:https://golasfestiwal.pl/event/snycerstwo/
LOCATION:Festiwal GOLAS\, ul. Przyszłość 1\, Giżycko\, 11-500\, Poland
ATTACH;FMTTYPE=image/jpeg:https://golasfestiwal.pl/wp-content/uploads/2024/05/snycerstwo_www.jpg
ORGANIZER;CN="Golas FESTIWAL":MAILTO:golasfestiwal@gmail.com
END:VEVENT
BEGIN:VEVENT
DTSTART;TZID=Europe/Warsaw:20240622T090000
DTEND;TZID=Europe/Warsaw:20240622T130000
DTSTAMP:20260419T153342
CREATED:20230520T093912Z
LAST-MODIFIED:20240601T170339Z
UID:1254-1719046800-1719061200@golasfestiwal.pl
SUMMARY:Action painting
DESCRIPTION:Malarstwo akcji – warsztaty inspirowane twórczością Jacsona Pollocka.\nMalowanie nie jedno ma imię. Można malować przy użyciu różnych narzędzi. Tematy obrazu mogą być rozmaite. Tym razem jest szansa by namalować obraz nie dotykając płótna pędzlem. Narzędziem malarskim zostanie mianowany patyk i kapiąca zeń swobodnie farba. Chlapać skutecznie i celowo? Nie każdy potrafi… Dobra wiadomość jest taka\, że można się tego nauczyć. \nO czym będzie obraz? O samym malowaniu. Przede wszystkim o kolorowej plamie\, czyli o tym czym gesty i ruch wykonywany przez malarza skutkuje na płótnie. \nWiek uczestników: od 12 lat*\nProwadząca: Ita Haręza \n*Dzieci od lat 7 mogą uczestniczyć pod opieką rodziców\, obowiązują stroje ochronne – lub takie których nie żal zniszczyć\, dotyczy to także butów! \n\n			\n				\n			\n			\n				\n			\n			\n				\n			\n		\n\nIta Haręza – ukończyła ASP w Łodzi z nagrodami za najlepszy dyplom roku 2011 i rozprawę naukową. Doktor sztuk plastycznych od 2017 roku. Stypendystka Marszałka Województwa Warmińsko-Mazurskiego (2015\, 2017) i ZAiKS (2019\, 2022). Uhonorowana III nagrodą na VII Triennale Polskiego Rysunku Współczesnego – Lubaczów 2014\, pierwszą nagrodą na Olsztyńskim Biennale Sztuki 2022. Autorka ponad 50 tekstów kuratorskich do wystaw\, katalogów. Kuratorka pleneru Warmińskiego i Galerii Marszałkowskiej w Olsztynie. W latach 2018-2021 związana z Muzeum Warmii i Mazur i Galerią sztuki współczesnej „Zamek”\, w Reszlu. Prowadzi rodzinną Galerię w Talkach i autorską Galerię „H” w Reszlu. Za swoją działalność kuratorską Nagrodzona tytułem „Kobiety sukcesu Warmii i Mazur 2021”. Ilustruje podcasty wydawane przez magazyn Madein Warmia&Mazury. Współorganizuje akcję „Otwarte pracownie na Mazurach”. W swoich pracach łączy grafikę\, rysunek i malarstwo. Obrazy zwykle wiąże z ideą wodnego pejzażu. Dąży do dokonywania artystycznych odkryć na drodze poznawania natury obserwowanych zjawisk. \nhttps://www.instagram.com/galeria_reszel/\nhttps://itahareza.com/
URL:https://golasfestiwal.pl/event/action-painting/
LOCATION:Festiwal GOLAS\, ul. Przyszłość 1\, Giżycko\, 11-500\, Poland
ATTACH;FMTTYPE=image/jpeg:https://golasfestiwal.pl/wp-content/uploads/2024/05/action_www.jpg
ORGANIZER;CN="Golas FESTIWAL":MAILTO:golasfestiwal@gmail.com
END:VEVENT
BEGIN:VEVENT
DTSTART;TZID=Europe/Warsaw:20240622T090000
DTEND;TZID=Europe/Warsaw:20240622T130000
DTSTAMP:20260419T153342
CREATED:20230520T083143Z
LAST-MODIFIED:20240601T170410Z
UID:1249-1719046800-1719061200@golasfestiwal.pl
SUMMARY:Warsztaty tkackie
DESCRIPTION:W trakcie warsztatów wykonamy małe formy tkackie\, które będzie można zabrać do domu. Uwaga\, tkanie to hobby dla cierpliwych – jeśli łatwo się frustrujesz\, może to być dla Ciebie spore wyzwanie! \nWiek uczestników: od 14 lat\nProwadzący: Anka i Kaśka Dobrzyn\, Topole Rugs & Crafts \n\n			\n				\n			\n			\n				\n			\n			\n				\n			\n			\n				\n			\n			\n				\n			\n			\n				\n			\n		\n\n  \nTopole rugs & crafts tworzą Anka i Kaśka Dobrzyn\, siostry urodzone i wychowane na Mazurach.  \nProjektujemy i tkamy tkaniny użytkowe techniką kilimową. Są to dywany i dekoracje ścienne\, które ocieplają wnętrza i poprawiają ich akustykę. Każdy element naszych prac wykonany jest ręcznie\, każdy kawałek przędzy przechodzi przez nasze ręce kilkanaście razy.   \nTkać nauczyłyśmy się w Muzeum Kultury Ludowej w Węgorzewie. Zrozumienie i szacunek dla tradycyjnego rzemiosła stanowią fundament naszej pracy. Wzory prosto z naszych głów adaptujemy do dawnej techniki i ludowych krosien. Inspirują nas zmieniające się dookoła kolory\, pejzaże\, dźwięki. Najczęściej więc natchnienia szukamy w naturze. Na pobliskich łąkach i w lasach. Na brzegach jezior i rzek. W cieniu samotnych drzew. Odkrywając opuszczone miejsca i zakątki wymagające jedynie odrobiny uważności\, by je odnaleźć.\nUżywamy zrównoważonych materiałów: lnu\, bawełny i wełny z recyklingu. Nasza wełniana przędza to pozostałości z fabryki dywanów – zwyczajowo za krótkie motki wełny są wyrzucane lub przerabiane na szare filcowe szmaty. My postanowiłyśmy dać im drugie życie.   \nProwadzimy warsztaty tkackie\, zarówno na krosnach podłogowych\, jak i na ramkach. Tworzymy projekty na zlecenie\, dobieramy odcienie i nadajemy tkaninom niepowtarzalny charakter. \nwww.topole.art\nIG / @topole.rugs\nFB / https://www.facebook.com/topole.rugs
URL:https://golasfestiwal.pl/event/warsztaty-tkackie/
LOCATION:Festiwal GOLAS\, ul. Przyszłość 1\, Giżycko\, 11-500\, Poland
ATTACH;FMTTYPE=image/jpeg:https://golasfestiwal.pl/wp-content/uploads/2024/05/tkactwo_www.jpg
ORGANIZER;CN="Golas FESTIWAL":MAILTO:golasfestiwal@gmail.com
END:VEVENT
END:VCALENDAR